{
 "currentVersion": 11.5,
 "cimVersion": "3.5.0",
 "serviceDescription": "Basemap using 2016 lidar-based digital surface model for Issaquah with parks, open space, NGPEs, buildings, and tree canopy as overlays.",
 "mapName": "DSM2016",
 "description": "Basemap using 2016 lidar-based digital surface model for Issaquah with parks, open space, NGPEs, buildings, and tree canopy as overlays.",
 "copyrightText": "City of Issaquah, WA GIS",
 "supportsDynamicLayers": true,
 "layers": [
  {
   "id": 0,
   "name": "City Limits",
   "parentLayerId": -1,
   "defaultVisibility": true,
   "subLayerIds": null,
   "minScale": 0,
   "maxScale": 0,
   "type": "Feature Layer",
   "geometryType": "esriGeometryPolygon",
   "supportsDynamicLegends": true
  },
  {
   "id": 1,
   "name": "DSM 2016",
   "parentLayerId": -1,
   "defaultVisibility": true,
   "subLayerIds": null,
   "minScale": 0,
   "maxScale": 0,
   "type": "Raster Layer",
   "supportsDynamicLegends": true
  },
  {
   "id": 2,
   "name": "Tree Canopy 2016 (lidar)",
   "parentLayerId": -1,
   "defaultVisibility": true,
   "subLayerIds": null,
   "minScale": 0,
   "maxScale": 0,
   "type": "Feature Layer",
   "geometryType": "esriGeometryPolygon",
   "supportsDynamicLegends": true
  },
  {
   "id": 3,
   "name": "Buildings",
   "parentLayerId": -1,
   "defaultVisibility": true,
   "subLayerIds": null,
   "minScale": 0,
   "maxScale": 0,
   "type": "Feature Layer",
   "geometryType": "esriGeometryPolygon",
   "supportsDynamicLegends": true
  },
  {
   "id": 4,
   "name": "Parks - Open Space - NGPE",
   "parentLayerId": -1,
   "defaultVisibility": true,
   "subLayerIds": null,
   "minScale": 0,
   "maxScale": 0,
   "type": "Feature Layer",
   "geometryType": "esriGeometryPolygon",
   "supportsDynamicLegends": true
  }
 ],
 "tables": [],
 "spatialReference": {
  "wkid": 2926,
  "latestWkid": 2926,
  "xyTolerance": 0.00328083333333333,
  "zTolerance": 2,
  "mTolerance": 0.001,
  "falseX": -117104300,
  "falseY": -99539600,
  "xyUnits": 3.792674222403606E7,
  "falseZ": 0,
  "zUnits": 1,
  "falseM": -100000,
  "mUnits": 10000
 },
 "singleFusedMapCache": true,
 "tileInfo": {
  "rows": 256,
  "cols": 256,
  "dpi": 96,
  "format": "MIXED",
  "compressionQuality": 75,
  "origin": {
   "x": -117104300,
   "y": 137949800
  },
  "spatialReference": {
   "wkid": 2926,
   "latestWkid": 2926,
   "xyTolerance": 0.001,
   "zTolerance": 2,
   "mTolerance": 2.0E-4,
   "falseX": -117104300,
   "falseY": -99539600,
   "xyUnits": 3.792674222403606E7,
   "falseZ": 0,
   "zUnits": 1,
   "falseM": -100000,
   "mUnits": 10000
  },
  "lods": [
   {
    "level": 0,
    "resolution": 513591.6038121137,
    "scale": 5.91657527591555E8
   },
   {
    "level": 1,
    "resolution": 256795.80190605644,
    "scale": 2.95828763795777E8
   },
   {
    "level": 2,
    "resolution": 128397.90095302863,
    "scale": 1.47914381897889E8
   },
   {
    "level": 3,
    "resolution": 64198.950476513884,
    "scale": 7.3957190948944E7
   },
   {
    "level": 4,
    "resolution": 32099.475238256942,
    "scale": 3.6978595474472E7
   },
   {
    "level": 5,
    "resolution": 16049.737619128471,
    "scale": 1.8489297737236E7
   },
   {
    "level": 6,
    "resolution": 8024.868809564236,
    "scale": 9244648.868618
   },
   {
    "level": 7,
    "resolution": 4012.434404782118,
    "scale": 4622324.434309
   },
   {
    "level": 8,
    "resolution": 2006.2172023914932,
    "scale": 2311162.217155
   },
   {
    "level": 9,
    "resolution": 1003.1086011953124,
    "scale": 1155581.108577
   },
   {
    "level": 10,
    "resolution": 501.55430059809026,
    "scale": 577790.554289
   },
   {
    "level": 11,
    "resolution": 250.7771502986111,
    "scale": 288895.277144
   },
   {
    "level": 12,
    "resolution": 125.38857514930555,
    "scale": 144447.638572
   },
   {
    "level": 13,
    "resolution": 62.694287574652776,
    "scale": 72223.819286
   },
   {
    "level": 14,
    "resolution": 31.347143787326388,
    "scale": 36111.909643
   },
   {
    "level": 15,
    "resolution": 15.673571894097222,
    "scale": 18055.954822
   },
   {
    "level": 16,
    "resolution": 7.836785947048611,
    "scale": 9027.977411
   },
   {
    "level": 17,
    "resolution": 3.9183929730902776,
    "scale": 4513.988705
   },
   {
    "level": 18,
    "resolution": 1.9591964869791667,
    "scale": 2256.994353
   },
   {
    "level": 19,
    "resolution": 0.9795982430555555,
    "scale": 1128.497176
   },
   {
    "level": 20,
    "resolution": 0.48979912152777777,
    "scale": 564.248588
   },
   {
    "level": 21,
    "resolution": 0.24489956076388888,
    "scale": 282.124294
   },
   {
    "level": 22,
    "resolution": 0.12244978038194444,
    "scale": 141.062147
   },
   {
    "level": 23,
    "resolution": 0.06122489019097222,
    "scale": 70.5310735
   }
  ]
 },
 "storageInfo": {
  "storageFormat": "esriMapCacheStorageModeCompactV2",
  "packetSize": 128
 },
 "initialExtent": {
  "xmin": 1323450.7611917856,
  "ymin": 187117.87086121796,
  "xmax": 1361362.0886129367,
  "ymax": 214311.7799699721,
  "spatialReference": {
   "wkid": 2926,
   "latestWkid": 2926,
   "xyTolerance": 0.00328083333333333,
   "zTolerance": 2,
   "mTolerance": 0.001,
   "falseX": -117104300,
   "falseY": -99539600,
   "xyUnits": 3.792674222403606E7,
   "falseZ": 0,
   "zUnits": 1,
   "falseM": -100000,
   "mUnits": 10000
  }
 },
 "fullExtent": {
  "xmin": 1324348.6605261867,
  "ymin": 186748.85264492035,
  "xmax": 1358977.102575138,
  "ymax": 214191.89296871424,
  "spatialReference": {
   "wkid": 2926,
   "latestWkid": 2926,
   "xyTolerance": 0.00328083333333333,
   "zTolerance": 2,
   "mTolerance": 0.001,
   "falseX": -117104300,
   "falseY": -99539600,
   "xyUnits": 3.792674222403606E7,
   "falseZ": 0,
   "zUnits": 1,
   "falseM": -100000,
   "mUnits": 10000
  }
 },
 "datesInUnknownTimezone": false,
 "minScale": 288895.277144,
 "maxScale": 70.5310735,
 "minLOD": 11,
 "maxLOD": 23,
 "units": "esriFeet",
 "supportedImageFormatTypes": "PNG32,PNG24,PNG,JPG,DIB,TIFF,EMF,PS,PDF,GIF,SVG,SVGZ,BMP",
 "documentInfo": {
  "Title": "Untitled.aprx",
  "Author": "",
  "Comments": "Basemap using 2016 lidar-based digital surface model for Issaquah with parks, open space, NGPEs, buildings, and tree canopy as overlays.",
  "Subject": "Basemap using 2016 lidar-based digital surface model for Issaquah with parks, open space, NGPEs, buildings, and tree canopy as overlays.",
  "Category": "",
  "Version": "3.1.0",
  "AntialiasingMode": "Fast",
  "TextAntialiasingMode": "Force",
  "Keywords": "Issaquah,basemap,DSM,digital surface model"
 },
 "supportsQueryDomains": true,
 "capabilities": "Map,Query,Data",
 "supportedQueryFormats": "JSON, geoJSON, PBF",
 "exportTilesAllowed": false,
 "referenceScale": 0.0,
 "supportsDatumTransformation": true,
 "archivingInfo": {
  "supportsHistoricMoment": false
 },
 "supportsClipping": true,
 "supportsSpatialFilter": true,
 "supportsTimeRelation": true,
 "supportsQueryDataElements": true,
 "mapUnits": {
  "uwkid": 9003
 },
 "maxSelectionCount": 2000,
 "maxRecordCount": 2000,
 "maxImageHeight": 4096,
 "maxImageWidth": 4096,
 "supportedExtensions": "",
 "serviceItemId": "b8ea6d6152144ceca6783d2e601e38e3"
}
