{
 "currentVersion": 11.1,
 "serviceDescription": "basemap_cached/Issaquah_elevation2023",
 "name": "basemap_cached/Issaquah_elevation2023",
 "description": "",
 "extent": {
  "xmin": 1325900.4696667455,
  "ymin": 185900.8899999959,
  "xmax": 1359100.4696667455,
  "ymax": 216100.8899999959,
  "spatialReference": {
   "wkid": 2926,
   "latestWkid": 2926,
   "vcsWkid": 105703,
   "latestVcsWkid": 6360
  }
 },
 "initialExtent": {
  "xmin": 1325900.4696667455,
  "ymin": 185900.8899999959,
  "xmax": 1359100.4696667455,
  "ymax": 216100.8899999959,
  "spatialReference": {
   "wkid": 2926,
   "latestWkid": 2926,
   "vcsWkid": 105703,
   "latestVcsWkid": 6360
  }
 },
 "fullExtent": {
  "xmin": 1325900.4696667455,
  "ymin": 185900.8899999959,
  "xmax": 1359100.4696667455,
  "ymax": 216100.8899999959,
  "spatialReference": {
   "wkid": 2926,
   "latestWkid": 2926,
   "vcsWkid": 105703,
   "latestVcsWkid": 6360
  }
 },
 "sortableFields": "",
 "heightModelInfo": {
  "heightModel": "gravity_related_height",
  "vertCRS": "NAVD88_height_(ftUS)",
  "heightUnit": "us-foot"
 },
 "bandCount": 1,
 "pixelType": "F32",
 "minValues": [
  29.39900016784668
 ],
 "maxValues": [
  1902.4990234375
 ],
 "meanValues": [
  499.586678763293
 ],
 "stdvValues": [
  377.77047048316143
 ],
 "hasMultidimensions": false,
 "pixelSizeX": 0.5,
 "pixelSizeY": 0.5,
 "datasetFormat": "SDR",
 "uncompressedSize": 16042240000,
 "blockWidth": 128,
 "blockHeight": 128,
 "compressionType": "LZ77",
 "bandNames": [
  "Band_1"
 ],
 "allowCopy": true,
 "allowAnalysis": true,
 "itemAccess": false,
 "minPixelSize": 0.06122489019097222,
 "maxPixelSize": 513591.60381211364,
 "copyrightText": "",
 "serviceDataType": "esriImageServiceDataTypeGeneric",
 "serviceSourceType": "esriImageServiceSourceTypeDataset",
 "objectIdField": "",
 "fields": [],
 "capabilities": "Image,Metadata,Mensuration",
 "defaultMosaicMethod": "Center",
 "allowedMosaicMethods": "",
 "sortField": "",
 "sortValue": null,
 "sortAscending": true,
 "mosaicOperator": "First",
 "defaultCompressionQuality": 75,
 "defaultResamplingMethod": "Bilinear",
 "maxImageHeight": 4100,
 "maxImageWidth": 15000,
 "singleFusedMapCache": true,
 "tileInfo": {
  "rows": 256,
  "cols": 256,
  "dpi": 96,
  "format": "LERC",
  "compressionQuality": 0,
  "lercError": 0.05,
  "origin": {
   "x": -117104300,
   "y": 137949800
  },
  "spatialReference": {
   "wkid": 2926,
   "latestWkid": 2926
  },
  "lods": [
   {
    "level": 0,
    "resolution": 513591.6038121137,
    "scale": 5.91657527591555E8
   },
   {
    "level": 1,
    "resolution": 256795.80190605644,
    "scale": 2.95828763795777E8
   },
   {
    "level": 2,
    "resolution": 128397.90095302863,
    "scale": 1.47914381897889E8
   },
   {
    "level": 3,
    "resolution": 64198.950476513884,
    "scale": 7.3957190948944E7
   },
   {
    "level": 4,
    "resolution": 32099.475238256942,
    "scale": 3.6978595474472E7
   },
   {
    "level": 5,
    "resolution": 16049.737619128471,
    "scale": 1.8489297737236E7
   },
   {
    "level": 6,
    "resolution": 8024.868809564236,
    "scale": 9244648.868618
   },
   {
    "level": 7,
    "resolution": 4012.434404782118,
    "scale": 4622324.434309
   },
   {
    "level": 8,
    "resolution": 2006.2172023914932,
    "scale": 2311162.217155
   },
   {
    "level": 9,
    "resolution": 1003.1086011953124,
    "scale": 1155581.108577
   },
   {
    "level": 10,
    "resolution": 501.55430059809026,
    "scale": 577790.554289
   },
   {
    "level": 11,
    "resolution": 250.7771502986111,
    "scale": 288895.277144
   },
   {
    "level": 12,
    "resolution": 125.38857514930555,
    "scale": 144447.638572
   },
   {
    "level": 13,
    "resolution": 62.694287574652776,
    "scale": 72223.819286
   },
   {
    "level": 14,
    "resolution": 31.347143787326388,
    "scale": 36111.909643
   },
   {
    "level": 15,
    "resolution": 15.673571894097222,
    "scale": 18055.954822
   },
   {
    "level": 16,
    "resolution": 7.836785947048611,
    "scale": 9027.977411
   },
   {
    "level": 17,
    "resolution": 3.9183929730902776,
    "scale": 4513.988705
   },
   {
    "level": 18,
    "resolution": 1.9591964869791667,
    "scale": 2256.994353
   },
   {
    "level": 19,
    "resolution": 0.9795982430555555,
    "scale": 1128.497176
   },
   {
    "level": 20,
    "resolution": 0.48979912152777777,
    "scale": 564.248588
   },
   {
    "level": 21,
    "resolution": 0.24489956076388888,
    "scale": 282.124294
   },
   {
    "level": 22,
    "resolution": 0.12244978038194444,
    "scale": 141.062147
   },
   {
    "level": 23,
    "resolution": 0.06122489019097222,
    "scale": 70.5310735
   }
  ]
 },
 "storageInfo": {
  "storageFormat": "esriMapCacheStorageModeCompactV2",
  "packetSize": 128
 },
 "cacheType": "Elevation",
 "allowRasterFunction": true,
 "rasterFunctionInfos": [
  {
   "name": "None",
   "description": "",
   "help": ""
  }
 ],
 "rasterTypeInfos": [
  {
   "name": "Raster Dataset",
   "description": "Supports all ArcGIS Raster Datasets",
   "help": ""
  }
 ],
 "mensurationCapabilities": "Basic",
 "hasHistograms": true,
 "hasColormap": false,
 "hasRasterAttributeTable": false,
 "minScale": 5.91657527591555E8,
 "maxScale": 70.5310735,
 "minLOD": 0,
 "maxLOD": 23,
 "exportTilesAllowed": false,
 "supportsStatistics": false,
 "supportsAdvancedQueries": false,
 "editFieldsInfo": null,
 "ownershipBasedAccessControlForRasters": null,
 "allowComputeTiePoints": false,
 "useStandardizedQueries": true,
 "advancedQueryCapabilities": {
  "useStandardizedQueries": true,
  "supportsStatistics": false,
  "supportsOrderBy": false,
  "supportsDistinct": false,
  "supportsPagination": false
 },
 "spatialReference": {
  "wkid": 2926,
  "latestWkid": 2926,
  "vcsWkid": 105703,
  "latestVcsWkid": 6360
 }
}
