{
 "currentVersion": 11.1,
 "cimVersion": "3.1.0",
 "serviceDescription": "",
 "mapName": "contours_cached",
 "description": "",
 "copyrightText": "City of Issaquah, WA GIS",
 "supportsDynamicLayers": true,
 "layers": [
  {
   "id": 0,
   "name": "Contours 2 ft. (2020)",
   "parentLayerId": -1,
   "defaultVisibility": true,
   "subLayerIds": [
    2,
    1,
    3
   ],
   "minScale": 0,
   "maxScale": 0,
   "type": "Group Layer",
   "supportsDynamicLegends": false
  },
  {
   "id": 2,
   "name": "Contours (50 ft.) (2020)",
   "parentLayerId": 0,
   "defaultVisibility": true,
   "subLayerIds": null,
   "minScale": 5000,
   "maxScale": 2501,
   "type": "Feature Layer",
   "geometryType": "esriGeometryPolyline",
   "supportsDynamicLegends": true
  },
  {
   "id": 1,
   "name": "Contours (10 ft.) (2020)",
   "parentLayerId": 0,
   "defaultVisibility": true,
   "subLayerIds": null,
   "minScale": 2500,
   "maxScale": 0,
   "type": "Feature Layer",
   "geometryType": "esriGeometryPolyline",
   "supportsDynamicLegends": true
  },
  {
   "id": 3,
   "name": "Contours (2 ft.) (2020)",
   "parentLayerId": 0,
   "defaultVisibility": true,
   "subLayerIds": null,
   "minScale": 2500,
   "maxScale": 0,
   "type": "Feature Layer",
   "geometryType": "esriGeometryPolyline",
   "supportsDynamicLegends": true
  }
 ],
 "tables": [],
 "spatialReference": {
  "wkid": 2926,
  "latestWkid": 2926,
  "xyTolerance": 0.001,
  "zTolerance": 2,
  "mTolerance": 2.0E-4,
  "falseX": -117104300,
  "falseY": -99539600,
  "xyUnits": 3.792674222403606E7,
  "falseZ": 0,
  "zUnits": 1,
  "falseM": -100000,
  "mUnits": 10000
 },
 "singleFusedMapCache": true,
 "tileInfo": {
  "rows": 256,
  "cols": 256,
  "dpi": 96,
  "format": "MIXED",
  "compressionQuality": 75,
  "origin": {
   "x": -117104300,
   "y": 137949800
  },
  "spatialReference": {
   "wkid": 2926,
   "latestWkid": 2926,
   "xyTolerance": 0.001,
   "zTolerance": 2,
   "mTolerance": 2.0E-4,
   "falseX": -117104300,
   "falseY": -99539600,
   "xyUnits": 3.792674222403606E7,
   "falseZ": 0,
   "zUnits": 1,
   "falseM": -100000,
   "mUnits": 10000
  },
  "lods": [
   {
    "level": 0,
    "resolution": 513591.6038121137,
    "scale": 5.91657527591555E8
   },
   {
    "level": 1,
    "resolution": 256795.80190605644,
    "scale": 2.95828763795777E8
   },
   {
    "level": 2,
    "resolution": 128397.90095302863,
    "scale": 1.47914381897889E8
   },
   {
    "level": 3,
    "resolution": 64198.950476513884,
    "scale": 7.3957190948944E7
   },
   {
    "level": 4,
    "resolution": 32099.475238256942,
    "scale": 3.6978595474472E7
   },
   {
    "level": 5,
    "resolution": 16049.737619128471,
    "scale": 1.8489297737236E7
   },
   {
    "level": 6,
    "resolution": 8024.868809564236,
    "scale": 9244648.868618
   },
   {
    "level": 7,
    "resolution": 4012.434404782118,
    "scale": 4622324.434309
   },
   {
    "level": 8,
    "resolution": 2006.2172023914932,
    "scale": 2311162.217155
   },
   {
    "level": 9,
    "resolution": 1003.1086011953124,
    "scale": 1155581.108577
   },
   {
    "level": 10,
    "resolution": 501.55430059809026,
    "scale": 577790.554289
   },
   {
    "level": 11,
    "resolution": 250.7771502986111,
    "scale": 288895.277144
   },
   {
    "level": 12,
    "resolution": 125.38857514930555,
    "scale": 144447.638572
   },
   {
    "level": 13,
    "resolution": 62.694287574652776,
    "scale": 72223.819286
   },
   {
    "level": 14,
    "resolution": 31.347143787326388,
    "scale": 36111.909643
   },
   {
    "level": 15,
    "resolution": 15.673571894097222,
    "scale": 18055.954822
   },
   {
    "level": 16,
    "resolution": 7.836785947048611,
    "scale": 9027.977411
   },
   {
    "level": 17,
    "resolution": 3.9183929730902776,
    "scale": 4513.988705
   },
   {
    "level": 18,
    "resolution": 1.9591964869791667,
    "scale": 2256.994353
   },
   {
    "level": 19,
    "resolution": 0.9795982430555555,
    "scale": 1128.497176
   },
   {
    "level": 20,
    "resolution": 0.48979912152777777,
    "scale": 564.248588
   },
   {
    "level": 21,
    "resolution": 0.24489956076388888,
    "scale": 282.124294
   },
   {
    "level": 22,
    "resolution": 0.12244978038194444,
    "scale": 141.062147
   },
   {
    "level": 23,
    "resolution": 0.06122489019097222,
    "scale": 70.5310735
   }
  ]
 },
 "storageInfo": {
  "storageFormat": "esriMapCacheStorageModeCompactV2",
  "packetSize": 128
 },
 "initialExtent": {
  "xmin": 1309628.9367617632,
  "ymin": 178568.728663362,
  "xmax": 1373696.8264172112,
  "ymax": 222372.01675144627,
  "spatialReference": {
   "wkid": 2926,
   "latestWkid": 2926,
   "xyTolerance": 0.001,
   "zTolerance": 2,
   "mTolerance": 2.0E-4,
   "falseX": -117104300,
   "falseY": -99539600,
   "xyUnits": 3.792674222403606E7,
   "falseZ": 0,
   "zUnits": 1,
   "falseM": -100000,
   "mUnits": 10000
  }
 },
 "fullExtent": {
  "xmin": 1318800.8841529433,
  "ymin": 186748.85250683205,
  "xmax": 1364524.879026031,
  "ymax": 214191.89290797635,
  "spatialReference": {
   "wkid": 2926,
   "latestWkid": 2926,
   "xyTolerance": 0.001,
   "zTolerance": 2,
   "mTolerance": 2.0E-4,
   "falseX": -117104300,
   "falseY": -99539600,
   "xyUnits": 3.792674222403606E7,
   "falseZ": 0,
   "zUnits": 1,
   "falseM": -100000,
   "mUnits": 10000
  }
 },
 "datesInUnknownTimezone": false,
 "minScale": 4513.988705,
 "maxScale": 70.5310735,
 "minLOD": 17,
 "maxLOD": 23,
 "units": "esriFeet",
 "supportedImageFormatTypes": "PNG32,PNG24,PNG,JPG,DIB,TIFF,EMF,PS,PDF,GIF,SVG,SVGZ,BMP",
 "documentInfo": {
  "Title": "Layers",
  "Author": "",
  "Comments": "",
  "Subject": "Issaquah area LiDAR-based 2 ft. contours with 10 ft. and 50 ft. index contours",
  "Category": "",
  "Version": "3.1.0",
  "AntialiasingMode": "Fast",
  "TextAntialiasingMode": "Force",
  "Keywords": "Issaquah,contours"
 },
 "capabilities": "Map,Query,Data",
 "supportedQueryFormats": "JSON, geoJSON, PBF",
 "exportTilesAllowed": false,
 "referenceScale": 0.0,
 "datumTransformations": [
  {
   "geoTransforms": [
    {
     "wkid": 108001,
     "latestWkid": 1241,
     "transformForward": true,
     "name": "NAD_1927_To_NAD_1983_NADCON"
    }
   ]
  },
  {
   "geoTransforms": [
    {
     "wkid": 108001,
     "latestWkid": 1241,
     "transformForward": false,
     "name": "NAD_1927_To_NAD_1983_NADCON"
    }
   ]
  }
 ],
 "supportsDatumTransformation": true,
 "archivingInfo": {
  "supportsHistoricMoment": false
 },
 "supportsClipping": true,
 "supportsSpatialFilter": true,
 "supportsTimeRelation": true,
 "supportsQueryDataElements": true,
 "mapUnits": {
  "uwkid": 9003
 },
 "maxRecordCount": 2000,
 "maxImageHeight": 4096,
 "maxImageWidth": 4096,
 "supportedExtensions": "",
 "resampling": false,
 "serviceItemId": "e95dfdd13c3541d8b5e2a93d9596a50b"
}
