View In:
ArcGIS JavaScript
ArcGIS Online Map Viewer
ArcGIS Earth
Service Description: Issaquah elevation based on 2016 lidar 1 foot DTM.
Name: basemap_cached/Issaquah_elevation
Description: Issaquah elevation based on 2016 lidar 1 foot DTM.
Single Fused Map Cache: false
Extent:
XMin: 1321145.3887917846
YMin: 184343.21731951833
XMax: 1367732.3887917846
YMax: 216977.21731951833
Spatial Reference: 2926
(2926)
VCSWkid(105703)
LatestVCSWkid(6360)
Initial Extent:
XMin: 1321145.3887917846
YMin: 184343.21731951833
XMax: 1367732.3887917846
YMax: 216977.21731951833
Spatial Reference: 2926
(2926)
VCSWkid(105703)
LatestVCSWkid(6360)
Full Extent:
XMin: 1321145.3887917846
YMin: 184343.21731951833
XMax: 1367732.3887917846
YMax: 216977.21731951833
Spatial Reference: 2926
(2926)
VCSWkid(105703)
LatestVCSWkid(6360)
Pixel Size X: 1.0
Pixel Size Y: 1.0
Band Count: 1
Pixel Type: F32
RasterFunction Infos: {"rasterFunctionInfos": [{
"name": "None",
"description": "",
"help": ""
}]}
Mensuration Capabilities: Basic
Inspection Capabilities:
Has Histograms: true
Has Colormap: false
Has Multi Dimensions : false
Rendering Rule:
Min Scale: 62500
Max Scale: 122.0703125
Min LOD: 0
Max LOD: 9
Resampling: false
Copyright Text: City of Issaquah, WA GIS
Service Data Type: esriImageServiceDataTypeGeneric
Min Values: 29.360000610351562
Max Values: 2947.889892578125
Mean Values: 682.9770079876747
Standard Deviation Values: 539.659534959144
Object ID Field:
Fields:
None
Default Mosaic Method: Center
Allowed Mosaic Methods:
SortField:
SortValue: null
Mosaic Operator: First
Default Compression Quality: 75
Default Resampling Method: Bilinear
Max Record Count: null
Max Image Height: 4100
Max Image Width: 15000
Max Download Image Count: null
Max Mosaic Image Count: null
Allow Raster Function: true
Allow Copy: true
Allow Analysis: true
Allow Compute TiePoints: false
Supports Statistics: false
Supports Advanced Queries: false
Use StandardizedQueries: true
Raster Type Infos:
Name: Raster Dataset
Description: Supports all ArcGIS Raster Datasets
Help:
Has Raster Attribute Table: false
Edit Fields Info: null
Ownership Based AccessControl For Rasters: null
Child Resources:
Info
Histograms
Statistics
Key Properties
Legend
Raster Function Infos
Supported Operations:
Export Image
Identify
Measure
Compute Histograms
Compute Statistics Histograms
Get Samples
Compute Class Statistics
Query Boundary
Compute Pixel Location
Compute Angles
Validate
Project