View In:
ArcGIS JavaScript
ArcGIS Online Map Viewer
ArcGIS Earth
ArcGIS Pro
Service Description: Issaquah aerial imagery acquired in 2020 at a 3 inch pixel resolution.
Map Name: imagery2020
Legend
All Layers and Tables
Dynamic Legend
Dynamic All Layers
Layers:
Description: Issaquah aerial imagery acquired in 2020 at a 3 inch pixel resolution.
Service Item Id: 5db9a12f1ddb4162af3e793ccef4b049
Copyright Text: City of Issaquah, WA GIS
Spatial Reference:
2926
(2926)
LatestVCSWkid(0)
Single Fused Map Cache: true
Tile Info:
- Height: 256.0
- Width: 256.0
- DPI: 96.0
-
Levels of Detail: 24
-
Level ID: 0
[ Start Tile, End Tile ]
- Resolution: 513591.6038121137
- Scale: 5.91657527591555E8
-
Level ID: 1
[ Start Tile, End Tile ]
- Resolution: 256795.80190605644
- Scale: 2.95828763795777E8
-
Level ID: 2
[ Start Tile, End Tile ]
- Resolution: 128397.90095302863
- Scale: 1.47914381897889E8
-
Level ID: 3
[ Start Tile, End Tile ]
- Resolution: 64198.950476513884
- Scale: 7.3957190948944E7
-
Level ID: 4
[ Start Tile, End Tile ]
- Resolution: 32099.475238256942
- Scale: 3.6978595474472E7
-
Level ID: 5
[ Start Tile, End Tile ]
- Resolution: 16049.737619128471
- Scale: 1.8489297737236E7
- Format: MIXED
- Compression Quality: 75.0
- Origin: X: -1.171043E8
Y: 1.379498E8
- Spatial Reference: 2926
(2926)
LatestVCSWkid(0)
Storage Info:
- Storage Format: esriMapCacheStorageModeCompactV2
- Packet Size: 128
Initial Extent:
XMin: 1321452.7103110172
YMin: 185973.55610392013
XMax: 1361873.0528679572
YMax: 214967.18931088838
Spatial Reference: 2926
(2926)
LatestVCSWkid(0)
Full Extent:
XMin: 1323624.7998258183
YMin: 186748.85250683205
XMax: 1359700.9633531559
YMax: 214191.89290797635
Spatial Reference: 2926
(2926)
LatestVCSWkid(0)
Units: esriFeet
Supported Image Format Types: PNG32,PNG24,PNG,JPG,DIB,TIFF,EMF,PS,PDF,GIF,SVG,SVGZ,BMP
Document Info:
Title: Layers
Author:
Comments:
Subject: Issaquah aerial imagery acquired in 2020 at a 3 inch pixel resolution.
Category:
Keywords: Issaquah,aerial imagery,imagery
AntialiasingMode: Normal
TextAntialiasingMode: Force
Supports Dynamic Layers: true
Resampling: false
MaxRecordCount: 1000
MaxSelectionCount: 2000
MaxImageHeight: 4096
MaxImageWidth: 4096
Supported Query Formats: JSON, geoJSON, PBF
Supports Query Data Elements: true
Min Scale: 288895.277144
Max Scale: 70.5310735
Min LOD: 11
Max LOD: 23
Supports Datum Transformation: true
Child Resources:
Info
Dynamic Layer
Supported Operations:
Export Map
Identify
QueryLegends
QueryDomains
Find
Return Updates